BEGIN:VCALENDAR
VERSION:2.0
PRODID:-//jEvents 2.0 for Joomla//EN
CALSCALE:GREGORIAN
METHOD:PUBLISH
BEGIN:VTIMEZONE
TZID:America/Chicago
BEGIN:STANDARD
DTSTART:20241103T010000
RDATE:20250309T030000
TZOFFSETFROM:-0500
TZOFFSETTO:-0600
TZNAME:America/Chicago CST
END:STANDARD
BEGIN:STANDARD
DTSTART:20251102T010000
RDATE:20260308T030000
TZOFFSETFROM:-0500
TZOFFSETTO:-0600
TZNAME:America/Chicago CST
END:STANDARD
BEGIN:STANDARD
DTSTART:20261101T010000
RDATE:20270314T030000
TZOFFSETFROM:-0500
TZOFFSETTO:-0600
TZNAME:America/Chicago CST
END:STANDARD
BEGIN:STANDARD
DTSTART:20271107T010000
RDATE:20280312T030000
TZOFFSETFROM:-0500
TZOFFSETTO:-0600
TZNAME:America/Chicago CST
END:STANDARD
BEGIN:STANDARD
DTSTART:20281105T010000
RDATE:20290311T030000
TZOFFSETFROM:-0500
TZOFFSETTO:-0600
TZNAME:America/Chicago CST
END:STANDARD
BEGIN:STANDARD
DTSTART:20291104T010000
RDATE:20300310T030000
TZOFFSETFROM:-0500
TZOFFSETTO:-0600
TZNAME:America/Chicago CST
END:STANDARD
BEGIN:STANDARD
DTSTART:20301103T010000
RDATE:20310309T030000
TZOFFSETFROM:-0500
TZOFFSETTO:-0600
TZNAME:America/Chicago CST
END:STANDARD
BEGIN:STANDARD
DTSTART:20311102T010000
RDATE:20320314T030000
TZOFFSETFROM:-0500
TZOFFSETTO:-0600
TZNAME:America/Chicago CST
END:STANDARD
BEGIN:DAYLIGHT
DTSTART:20240617T000000
RDATE:20241103T010000
TZOFFSETFROM:-0600
TZOFFSETTO:-0500
TZNAME:America/Chicago CDT
END:DAYLIGHT
BEGIN:DAYLIGHT
DTSTART:20250309T030000
RDATE:20251102T010000
TZOFFSETFROM:-0600
TZOFFSETTO:-0500
TZNAME:America/Chicago CDT
END:DAYLIGHT
BEGIN:DAYLIGHT
DTSTART:20260308T030000
RDATE:20261101T010000
TZOFFSETFROM:-0600
TZOFFSETTO:-0500
TZNAME:America/Chicago CDT
END:DAYLIGHT
BEGIN:DAYLIGHT
DTSTART:20270314T030000
RDATE:20271107T010000
TZOFFSETFROM:-0600
TZOFFSETTO:-0500
TZNAME:America/Chicago CDT
END:DAYLIGHT
BEGIN:DAYLIGHT
DTSTART:20280312T030000
RDATE:20281105T010000
TZOFFSETFROM:-0600
TZOFFSETTO:-0500
TZNAME:America/Chicago CDT
END:DAYLIGHT
BEGIN:DAYLIGHT
DTSTART:20290311T030000
RDATE:20291104T010000
TZOFFSETFROM:-0600
TZOFFSETTO:-0500
TZNAME:America/Chicago CDT
END:DAYLIGHT
BEGIN:DAYLIGHT
DTSTART:20300310T030000
RDATE:20301103T010000
TZOFFSETFROM:-0600
TZOFFSETTO:-0500
TZNAME:America/Chicago CDT
END:DAYLIGHT
BEGIN:DAYLIGHT
DTSTART:20310309T030000
RDATE:20311102T010000
TZOFFSETFROM:-0600
TZOFFSETTO:-0500
TZNAME:America/Chicago CDT
END:DAYLIGHT
END:VTIMEZONE
BEGIN:VEVENT
UID:ab485683241eb2588905719738b4f46b
CATEGORIES:Affiliated Organization Events
CREATED:20240810T121328
SUMMARY:Together for Choice Conference at Misericordia
DESCRIPTION:The 2025 Together for Choice (TFC) Conference will take place at Misericord
 ia from June 18 to 20. This year’s conference will invite speakers and atte
 ndees from across the country to share best practices in the field of intel
 lectual and developmental disabilities. Topics will include policy updates,
  fundraising strategies, workforce recruitment and retention, and the impac
 t of collaboration. \nTo learn more about TFC, click here (https://7fklijca
 b.cc.rs6.net/tn.jsp?f=001iGJU5ADKb00W6K1_a-Ua7BHBqixhhp0CX1qH19UmLChWVZxlw5
 pY0subjSpzHbPWznFDjxGB5HqZQHl2eeaTirZIbbcHo1z2nz_lFwLU4JVmCRB93iwLLdGxtbyW9
 lRplUn9VoY4txzXlftQfdyQL_dFGHs0PcEJkORmRT_vkuU=&amp;c=jGSdv5S9TWdbEMS38R_1V
 YPSXLVRfnakdzzn6BFj90sMB9BHE_brIQ==&amp;ch=PoVtpc0-wkG6w-jTtibwqcqS4ka-5jmP
 NSwbg6kFflaR0WyrZniknw==), and stay tuned for more details about the confer
 ence.\n \n
X-ALT-DESC;FMTTYPE=text/html:<p>The <strong>2025 Together for Choice (TFC) Conference</strong> will take
  place at Misericordia from June 18 to 20. This year’s conference will invi
 te speakers and attendees from across the country to share best practices i
 n the field of intellectual and developmental disabilities. Topics will inc
 lude policy updates, fundraising strategies, workforce recruitment and rete
 ntion, and the impact of collaboration.&nbsp;</p><p>To learn more about TFC
 ,&nbsp;<a href="https://7fklijcab.cc.rs6.net/tn.jsp?f=001iGJU5ADKb00W6K1_a-
 Ua7BHBqixhhp0CX1qH19UmLChWVZxlw5pY0subjSpzHbPWznFDjxGB5HqZQHl2eeaTirZIbbcHo
 1z2nz_lFwLU4JVmCRB93iwLLdGxtbyW9lRplUn9VoY4txzXlftQfdyQL_dFGHs0PcEJkORmRT_v
 kuU=&amp;c=jGSdv5S9TWdbEMS38R_1VYPSXLVRfnakdzzn6BFj90sMB9BHE_brIQ==&amp;ch=
 PoVtpc0-wkG6w-jTtibwqcqS4ka-5jmPNSwbg6kFflaR0WyrZniknw=="><strong>click her
 e</strong></a>, and stay tuned for more details about the conference.</p><p
 >&nbsp;</p>
DTSTAMP:20260419T132949
DTSTART;TZID=America/Chicago;VALUE=DATE:20250618
DTEND;TZID=America/Chicago;VALUE=DATE:20250621
SEQUENCE:0
TRANSP:OPAQUE
END:VEVENT
END:VCALENDAR